BEGIN:VCALENDAR
VERSION:2.0
PRODID:-//hacksw/handcal//NONSGML v1.0//EN
BEGIN:VEVENT
SUMMARY:Concours du 1er mai 2026
UID:c258ea5c-c211-41c3-81ce-f7b7ece0aef1
DTSTART:20260501T113000Z
DTEND:20260501T160000Z
LOCATION:Terrain Parc Fourmont 11 Imp. Albert Camus 78580 Maule
CATEGORIES:Sportif
STATUS:
DESCRIPTION:<p>Nous organisons un concours ouvert a tous nos les
 membres. </p>
 
 <p>A la melee en doublette ou
 triplette </p>
 
 <p>Inscription a partir de 13h30 </p>
 
 <p>Jet du
 but a 14h00 </p>
 
 <p>Participation 3€/personne. </p>
URL;VALUE=URI:https://www.lmdp78.fr/evenements/2026/05/01/concours-du-1er-mai-2026-2442721
END:VEVENT
END:VCALENDAR
