BEGIN:VCALENDAR
VERSION:2.0
PRODID:-//hacksw/handcal//NONSGML v1.0//EN
BEGIN:VEVENT
SUMMARY:QUALIFICATION DOUBLETTE HOMME TOUTES CATEGORIES
UID:f856e982-4f10-405f-abd6-30b20ba4ba7b
DTSTART:20260425T060000Z
DTEND:20260425T220000Z
LOCATION:Localisation complexe sportif la vallee Francaise chemin de la foret 78270 Bonnieres-sur-seine
CATEGORIES:Sportif
STATUS:
DESCRIPTION:<p><span style="color:#ff0000;"><strong>IMPORTANT AVANT
 DE S'INSCRIRE :</strong></span></p>
 
 <p><span
 style="color:#ff0000;"><strong>1. CONSTITUER VOS
 EQUIPES.</strong></span></p>
 
 <p><span
 style="color:#ff0000;"><strong>2. VALIDER L'INSCRITION SUR
 SPORTSREGIONS INDIVIDUELLEMENT.</strong></span></p>
 
 <p>Les
 participants recevront une convocation par email avec un LIEN DE
 REPONSE leur permettant d'indiquer leur presence ou leur absence.Ils
 recevront une notification sur SportsRegions, la convocation
 directement sur leur telephone.</p>
 
 <p><strong>- Qualification
 doublette homme toutes categories a BONNIERES SUR
 SEINE.</strong></p>
 
 <p><strong>- Rappel, la tenue du club officielle
 et licence dematerialisee.</strong></p>
 
 <p><strong>- Jet du but
 8h00</strong></p>
URL;VALUE=URI:https://www.lmdp78.fr/evenements/2026/04/25/qualification-doublette-homme-toutes-categories-2427813
END:VEVENT
END:VCALENDAR
