BEGIN:VCALENDAR
VERSION:2.0
PRODID:-//hacksw/handcal//NONSGML v1.0//EN
BEGIN:VEVENT
SUMMARY:CHAMPIONNAT TETE A TETE DAMES TOUTES CATEGORIES
UID:fa1a71d8-5e7c-4591-8257-dfa014fbdc8a
DTSTART:20260425T110000Z
DTEND:20260425T220000Z
LOCATION:Localisation Avenue du Chateau 78410 Aubergenville
CATEGORIES:Sportif
STATUS:
DESCRIPTION:<p><span style="color:#ff0000;"><strong>IMPORTANT
 :</strong></span></p>
 
 <p><span
 style="color:#ff0000;"><strong>VALIDER L'INSCRITION SUR
 SPORTSREGIONS.</strong></span></p>
 
 <p>Les participants recevront une
 convocation par email avec un LIEN DE REPONSE leur permettant
 d'indiquer leur presence ou leur absence.Ils recevront une
 notification sur SportsRegions, la convocation directement sur leur
 telephone.</p>
 
 <p><strong>- Championnat tete a tete dames toutes
 categories a AUBERGENVILLE.</strong></p>
 
 <p><strong>- Rappel, la
 tenue du club officielle et licence
 dematerialisee.</strong></p>
 
 <p><strong>- Jet du but
 13h00</strong></p>
URL;VALUE=URI:https://www.lmdp78.fr/evenements/2026/04/25/championnat-tete-a-tete-dames-toutes-categories-2427817
END:VEVENT
END:VCALENDAR
